BEGIN:VCALENDAR
VERSION:2.0
PRODID:-//High Point Section 1 - ECPv6.15.20//NONSGML v1.0//EN
CALSCALE:GREGORIAN
METHOD:PUBLISH
X-WR-CALNAME:High Point Section 1
X-ORIGINAL-URL:https://highpointsection1.com
X-WR-CALDESC:Events for High Point Section 1
REFRESH-INTERVAL;VALUE=DURATION:PT1H
X-Robots-Tag:noindex
X-PUBLISHED-TTL:PT1H
BEGIN:VTIMEZONE
TZID:America/New_York
BEGIN:DAYLIGHT
TZOFFSETFROM:-0500
TZOFFSETTO:-0400
TZNAME:EDT
DTSTART:20190310T070000
END:DAYLIGHT
BEGIN:STANDARD
TZOFFSETFROM:-0400
TZOFFSETTO:-0500
TZNAME:EST
DTSTART:20191103T060000
END:STANDARD
BEGIN:DAYLIGHT
TZOFFSETFROM:-0500
TZOFFSETTO:-0400
TZNAME:EDT
DTSTART:20200308T070000
END:DAYLIGHT
BEGIN:STANDARD
TZOFFSETFROM:-0400
TZOFFSETTO:-0500
TZNAME:EST
DTSTART:20201101T060000
END:STANDARD
BEGIN:DAYLIGHT
TZOFFSETFROM:-0500
TZOFFSETTO:-0400
TZNAME:EDT
DTSTART:20210314T070000
END:DAYLIGHT
BEGIN:STANDARD
TZOFFSETFROM:-0400
TZOFFSETTO:-0500
TZNAME:EST
DTSTART:20211107T060000
END:STANDARD
BEGIN:DAYLIGHT
TZOFFSETFROM:-0500
TZOFFSETTO:-0400
TZNAME:EDT
DTSTART:20220313T070000
END:DAYLIGHT
BEGIN:STANDARD
TZOFFSETFROM:-0400
TZOFFSETTO:-0500
TZNAME:EST
DTSTART:20221106T060000
END:STANDARD
END:VTIMEZONE
BEGIN:VTIMEZONE
TZID:UTC
BEGIN:STANDARD
TZOFFSETFROM:+0000
TZOFFSETTO:+0000
TZNAME:UTC
DTSTART:20190101T000000
END:STANDARD
END:VTIMEZONE
BEGIN:VEVENT
DTSTART;TZID=America/New_York:20211209T160000
DTEND;TZID=America/New_York:20211209T200000
DTSTAMP:20260422T092928
CREATED:20211209T222342Z
LAST-MODIFIED:20211209T222342Z
UID:1504-1639065600-1639080000@highpointsection1.com
SUMMARY:Thirsty Thursday 4 PM
DESCRIPTION:
URL:https://highpointsection1.com/event/thirsty-thursday-4-pm/
END:VEVENT
BEGIN:VEVENT
DTSTART;TZID=America/New_York:20211207T160000
DTEND;TZID=America/New_York:20211207T170000
DTSTAMP:20260422T092928
CREATED:20211201T221820Z
LAST-MODIFIED:20211201T223313Z
UID:1480-1638892800-1638896400@highpointsection1.com
SUMMARY:New Landscapers QnA 4PM
DESCRIPTION:The GreenShape Landscapers will be here at the clubhouse on Tuesday\, Dec 7 at 4  PM for any questions you may have
URL:https://highpointsection1.com/event/new-landscapers-qna/
END:VEVENT
BEGIN:VEVENT
DTSTART;TZID=America/New_York:20211207T140000
DTEND;TZID=America/New_York:20211207T153000
DTSTAMP:20260422T092928
CREATED:20211201T222251Z
LAST-MODIFIED:20211201T223401Z
UID:1485-1638885600-1638891000@highpointsection1.com
SUMMARY:Board Workshop 2PM
DESCRIPTION:Board Workshop for Budget Responses and Follow Up
URL:https://highpointsection1.com/event/board-workshop/
END:VEVENT
BEGIN:VEVENT
DTSTART;TZID=America/New_York:20211205T140000
DTEND;TZID=America/New_York:20211205T180000
DTSTAMP:20260422T092928
CREATED:20211201T222856Z
LAST-MODIFIED:20211201T223555Z
UID:1491-1638712800-1638727200@highpointsection1.com
SUMMARY:Sunday Roast Beef Dinner 2PM
DESCRIPTION:Roast Beef Dinner Buffet style 2 PM
URL:https://highpointsection1.com/event/sunday-roast-beef-dinner/
END:VEVENT
BEGIN:VEVENT
DTSTART;TZID=America/New_York:20211111T100000
DTEND;TZID=America/New_York:20211111T120000
DTSTAMP:20260422T092928
CREATED:20210916T201505Z
LAST-MODIFIED:20210916T201505Z
UID:1439-1636624800-1636632000@highpointsection1.com
SUMMARY:Monthly Board Meeting 10AM
DESCRIPTION:
URL:https://highpointsection1.com/event/monthly-board-meeting-10am-6/
END:VEVENT
BEGIN:VEVENT
DTSTART;TZID=America/New_York:20211015T100000
DTEND;TZID=America/New_York:20211015T120000
DTSTAMP:20260422T092928
CREATED:20210916T201316Z
LAST-MODIFIED:20210916T201333Z
UID:1436-1634292000-1634299200@highpointsection1.com
SUMMARY:Monthly Board Meeting 10AM (Note Day Change)
DESCRIPTION:
URL:https://highpointsection1.com/event/monthly-board-meeting-10am-note-day-change/
END:VEVENT
BEGIN:VEVENT
DTSTART;TZID=America/New_York:20210921T100000
DTEND;TZID=America/New_York:20210921T120000
DTSTAMP:20260422T092928
CREATED:20210916T195910Z
LAST-MODIFIED:20210916T195910Z
UID:1434-1632218400-1632225600@highpointsection1.com
SUMMARY:Monthly Board Meeting 10AM
DESCRIPTION:
URL:https://highpointsection1.com/event/monthly-board-meeting-10am-5/
END:VEVENT
BEGIN:VEVENT
DTSTART;TZID=America/New_York:20201210T100000
DTEND;TZID=America/New_York:20201210T110000
DTSTAMP:20260422T092928
CREATED:20201015T153823Z
LAST-MODIFIED:20201015T153823Z
UID:1294-1607594400-1607598000@highpointsection1.com
SUMMARY:Board Meeting 10AM
DESCRIPTION:
URL:https://highpointsection1.com/event/board-meeting-10am-11/
END:VEVENT
BEGIN:VEVENT
DTSTART;TZID=America/New_York:20201119T110000
DTEND;TZID=America/New_York:20201119T110000
DTSTAMP:20260422T092928
CREATED:20201015T153715Z
LAST-MODIFIED:20201105T153412Z
UID:1291-1605783600-1605783600@highpointsection1.com
SUMMARY:Board Meeting 10AM
DESCRIPTION:
URL:https://highpointsection1.com/event/board-meeting-10am-10/
END:VEVENT
BEGIN:VEVENT
DTSTART;TZID=America/New_York:20201015T100000
DTEND;TZID=America/New_York:20201015T110000
DTSTAMP:20260422T092928
CREATED:20201015T153627Z
LAST-MODIFIED:20201015T153627Z
UID:1289-1602756000-1602759600@highpointsection1.com
SUMMARY:Board Meeting 10AM
DESCRIPTION:
URL:https://highpointsection1.com/event/board-meeting-10am-9/
END:VEVENT
BEGIN:VEVENT
DTSTART;TZID=America/New_York:20200917T100000
DTEND;TZID=America/New_York:20200917T110000
DTSTAMP:20260422T092928
CREATED:20200910T192225Z
LAST-MODIFIED:20200910T192225Z
UID:1279-1600336800-1600340400@highpointsection1.com
SUMMARY:NO Monthly Board Meeting
DESCRIPTION:
URL:https://highpointsection1.com/event/no-monthly-board-meeting-3/
END:VEVENT
BEGIN:VEVENT
DTSTART;TZID=America/New_York:20200820T100000
DTEND;TZID=America/New_York:20200820T110000
DTSTAMP:20260422T092928
CREATED:20200910T191955Z
LAST-MODIFIED:20200910T191955Z
UID:1273-1597917600-1597921200@highpointsection1.com
SUMMARY:Monthly Board Meeting 10AM
DESCRIPTION:
URL:https://highpointsection1.com/event/monthly-board-meeting-10am-3/
END:VEVENT
BEGIN:VEVENT
DTSTART;TZID=America/New_York:20200723T100000
DTEND;TZID=America/New_York:20200723T110000
DTSTAMP:20260422T092928
CREATED:20200910T191911Z
LAST-MODIFIED:20200910T191911Z
UID:1271-1595498400-1595502000@highpointsection1.com
SUMMARY:Monthly Board Meeting 10AM
DESCRIPTION:
URL:https://highpointsection1.com/event/monthly-board-meeting-10am-2/
END:VEVENT
BEGIN:VEVENT
DTSTART;TZID=America/New_York:20200618T100000
DTEND;TZID=America/New_York:20200618T110000
DTSTAMP:20260422T092928
CREATED:20200910T192051Z
LAST-MODIFIED:20200910T192051Z
UID:1275-1592474400-1592478000@highpointsection1.com
SUMMARY:NO Monthly Board Meeting
DESCRIPTION:O
URL:https://highpointsection1.com/event/no-monthly-board-meeting/
END:VEVENT
BEGIN:VEVENT
DTSTART;TZID=America/New_York:20200521T100000
DTEND;TZID=America/New_York:20200521T110000
DTSTAMP:20260422T092928
CREATED:20200910T192130Z
LAST-MODIFIED:20200910T192130Z
UID:1277-1590055200-1590058800@highpointsection1.com
SUMMARY:NO Monthly Board Meeting
DESCRIPTION:
URL:https://highpointsection1.com/event/no-monthly-board-meeting-2/
END:VEVENT
BEGIN:VEVENT
DTSTART;TZID=America/New_York:20200413T093000
DTEND;TZID=America/New_York:20200413T110000
DTSTAMP:20260422T092928
CREATED:20191114T163350Z
LAST-MODIFIED:20191114T163350Z
UID:1137-1586770200-1586775600@highpointsection1.com
SUMMARY:Women's Club Meeting 9:30AM
DESCRIPTION:
URL:https://highpointsection1.com/event/womens-club-meeting-930am-6/
END:VEVENT
BEGIN:VEVENT
DTSTART;TZID=America/New_York:20200406T100000
DTEND;TZID=America/New_York:20200406T110000
DTSTAMP:20260422T092928
CREATED:20200910T191816Z
LAST-MODIFIED:20200910T191816Z
UID:1269-1586167200-1586170800@highpointsection1.com
SUMMARY:Monthly Board Meeting 10AM
DESCRIPTION:
URL:https://highpointsection1.com/event/monthly-board-meeting-10am/
END:VEVENT
BEGIN:VEVENT
DTSTART;TZID=America/New_York:20200401T190000
DTEND;TZID=America/New_York:20200401T200000
DTSTAMP:20260422T092928
CREATED:20191114T163946Z
LAST-MODIFIED:20191114T163946Z
UID:1145-1585767600-1585771200@highpointsection1.com
SUMMARY:Men's Club Meeting 7PM
DESCRIPTION:
URL:https://highpointsection1.com/event/mens-club-meeting-7pm-4/
END:VEVENT
BEGIN:VEVENT
DTSTART;TZID=America/New_York:20200322T090000
DTEND;TZID=America/New_York:20200322T110000
DTSTAMP:20260422T092928
CREATED:20200312T144738Z
LAST-MODIFIED:20200312T144738Z
UID:1225-1584867600-1584874800@highpointsection1.com
SUMMARY:Breakfast 9-11 AM CANCELLED
DESCRIPTION:
URL:https://highpointsection1.com/event/breakfast-9-11-am-cancelled/
END:VEVENT
BEGIN:VEVENT
DTSTART;TZID=America/New_York:20200319T140000
DTEND;TZID=America/New_York:20200319T170000
DTSTAMP:20260422T092928
CREATED:20200312T144532Z
LAST-MODIFIED:20200312T144532Z
UID:1223-1584626400-1584637200@highpointsection1.com
SUMMARY:Annual Meeting 2:00 PM
DESCRIPTION:
URL:https://highpointsection1.com/event/annual-meeting-200-pm/
END:VEVENT
BEGIN:VEVENT
DTSTART;TZID=America/New_York:20200316T080000
DTEND;TZID=America/New_York:20200316T170000
DTSTAMP:20260422T092928
CREATED:20200312T144322Z
LAST-MODIFIED:20200312T144405Z
UID:1221-1584345600-1584378000@highpointsection1.com
SUMMARY:ST Patty's Day Party CANCELLED
DESCRIPTION:
URL:https://highpointsection1.com/event/st-pattys-day-party-cancelled/
END:VEVENT
BEGIN:VEVENT
DTSTART;TZID=America/New_York:20200309T093000
DTEND;TZID=America/New_York:20200309T110000
DTSTAMP:20260422T092928
CREATED:20191114T163238Z
LAST-MODIFIED:20191114T163238Z
UID:1135-1583746200-1583751600@highpointsection1.com
SUMMARY:Women's Club Meeting 9:30AM
DESCRIPTION:
URL:https://highpointsection1.com/event/womens-club-meeting-930am-5/
END:VEVENT
BEGIN:VEVENT
DTSTART;TZID=America/New_York:20200304T190000
DTEND;TZID=America/New_York:20200304T200000
DTSTAMP:20260422T092928
CREATED:20191114T163606Z
LAST-MODIFIED:20191114T163606Z
UID:1143-1583348400-1583352000@highpointsection1.com
SUMMARY:Men's Club Meeting 7PM
DESCRIPTION:
URL:https://highpointsection1.com/event/mens-club-meeting-7pm-3/
END:VEVENT
BEGIN:VEVENT
DTSTART;TZID=UTC:20200223T090000
DTEND;TZID=UTC:20200223T110000
DTSTAMP:20260422T092928
CREATED:20190123T012254Z
LAST-MODIFIED:20191114T202303Z
UID:955-1582448400-1582455600@highpointsection1.com
SUMMARY:Men's Club Breakfast 9:00 - 11:00 AM
DESCRIPTION:$6 per person \nEggs\, Ham\, Home Fries\, Cornbread\, Rye & White Toast\, Juice\, Coffee & Tea \nAt the Clubhouse
URL:https://highpointsection1.com/event/mens-club-breakfast-900-1100-am/
END:VEVENT
BEGIN:VEVENT
DTSTART;TZID=UTC:20200214T170000
DTEND;TZID=UTC:20200214T220000
DTSTAMP:20260422T092928
CREATED:20190123T011739Z
LAST-MODIFIED:20200204T163454Z
UID:951-1581699600-1581717600@highpointsection1.com
SUMMARY:Valentine Party 5:00 PM
DESCRIPTION:
URL:https://highpointsection1.com/event/valentine-party-500-pm/
END:VEVENT
BEGIN:VEVENT
DTSTART;TZID=America/New_York:20200213T100000
DTEND;TZID=America/New_York:20200213T110000
DTSTAMP:20260422T092928
CREATED:20200910T192604Z
LAST-MODIFIED:20200910T192604Z
UID:1281-1581588000-1581591600@highpointsection1.com
SUMMARY:Monthly Board Meeting 10AM
DESCRIPTION:
URL:https://highpointsection1.com/event/monthly-board-meeting-10am-4/
END:VEVENT
BEGIN:VEVENT
DTSTART;TZID=America/New_York:20200212T190000
DTEND;TZID=America/New_York:20200212T200000
DTSTAMP:20260422T092928
CREATED:20191114T163542Z
LAST-MODIFIED:20200204T163537Z
UID:1141-1581534000-1581537600@highpointsection1.com
SUMMARY:Men's Club Meeting 7PM
DESCRIPTION:
URL:https://highpointsection1.com/event/mens-club-meeting-7pm-2/
END:VEVENT
BEGIN:VEVENT
DTSTART;TZID=America/New_York:20200210T093000
DTEND;TZID=America/New_York:20200210T110000
DTSTAMP:20260422T092928
CREATED:20191114T163105Z
LAST-MODIFIED:20191114T163105Z
UID:1133-1581327000-1581332400@highpointsection1.com
SUMMARY:Women's Club Meeting 9:30AM
DESCRIPTION:
URL:https://highpointsection1.com/event/womens-club-meeting-930am-4/
END:VEVENT
BEGIN:VEVENT
DTSTART;TZID=UTC:20200125T080000
DTEND;TZID=UTC:20200125T140000
DTSTAMP:20260422T092928
CREATED:20190108T230618Z
LAST-MODIFIED:20191114T201353Z
UID:901-1579939200-1579960800@highpointsection1.com
SUMMARY:TRASH to TREASURES 8:00-2:00 pm
DESCRIPTION:We are COLLECTING ITEMS for the Trash to Treasure. \n\nItems should be in closed boxes. Clothing can be on hangers\, bags or boxes. Selected large items will also be accepted.\n\n\n\nBEFORE BRINGING ITEMS OVER CONTACT  \nGeri Gigliotti     561-274-0588\n\n\n\nLIQUOR BASKET DONATION \nAll liquor donations can be dropped off at the office and are greatly appreciated.
URL:https://highpointsection1.com/event/trash-to-treasures-800-200-pm/
END:VEVENT
BEGIN:VEVENT
DTSTART;TZID=America/New_York:20200119T090000
DTEND;TZID=America/New_York:20200119T110000
DTSTAMP:20260422T092928
CREATED:20191217T193306Z
LAST-MODIFIED:20200102T150806Z
UID:1179-1579424400-1579431600@highpointsection1.com
SUMMARY:Men's Club Breakfast 9AM
DESCRIPTION:Eggs\, Sausage\, Hash Browns\, Sweet\, Toast\, Juice\, Coffee and Tea \nSIGN UP SHEET IN CLUBHOUSE
URL:https://highpointsection1.com/event/breakfast-9am/
END:VEVENT
END:VCALENDAR